BEGIN:VCALENDAR
METHOD:PUBLISH
PRODID:-//doubleknot.com//CalenderEvent MIMEDIR//EN
VERSION:2.0
BEGIN:VEVENT
UID:3144083-20260508T070000Z-20260509T070000Z@doubleknot.com
CREATED:20260422T134951Z
LAST-MODIFIED:20260422T140020Z
DTSTAMP:20260422T185418Z
DTSTART;VALUE=DATE:20260508
DTEND;VALUE=DATE:20260509
LOCATION:US
CATEGORIES:
DESCRIPTION:Save money and order your mulligan packages before the tournament! \n  \n  \n Cost: \n  \n  \n  \n $250.00-4 packages for the team (at the tournament will cost $360.00) \n  \n  \n $75.00-Individual Packages \n  \n  \n $90 EACH PERSON ON DAY OF TOURNAMENT! \n  \n  \n  \n 	 \n 		 \n 			What&#39;s Included? \n 			Description \n 		 \n 		 \n 			Mulligan \n 			(Limit of 2 per shooter.)  Reshoot One Pair-Cannot lower your score or give you more than Station Total.  \n 		 \n 		 \n 			Super Mulligan \n 			(Limit of 1 per shooter.) Score a perfect 6 on any 6-bird station.  You may shoot or not shoot. \n 		 \n 		 \n 			Over/Under Shotgun Raffle \n 			6 birds-3 tickets, 4 or 5 birds-2 tickets, 1, 2 or 3 birds-1 ticket.  0 birds-Sorry! \n 		 \n 		 \n 			Ruger LCP .380 \n 			6 birds-3 tickets, 4 or 5 birds-2 tickets, 1, 2 or 3 birds-1 ticket.  0 birds-Sorry! \n 		 \n 		 \n 			Speaker \n 			6 birds-3 tickets, 4 or 5 birds-2 tickets, 1, 2 or 3 birds-1 ticket.  0 birds-Sorry! \n 		 \n 		 \n 			Igloo Trailmate Cooler \n 			6 birds-3 tickets, 4 or 5 birds-2 tickets, 1, 2 or 3 birds-1 ticket.  0 birds-Sorry! \n 		 \n 	 \n 
SUMMARY:2026 Sporting Clays Mulligan Package(s)
PRIORITY:5
BEGIN:VALARM
TRIGGER:PT15M
ACTION:DISPLAY
DESCRIPTION:Reminder
PRIORITY:5
END:VALARM
END:VEVENT
END:VCALENDAR
