BEGIN:VCALENDAR
METHOD:PUBLISH
PRODID:-//doubleknot.com//CalenderEvent MIMEDIR//EN
VERSION:2.0
BEGIN:VEVENT
UID:3143656-20280810T230000Z-20280811T000000Z@doubleknot.com
CREATED:20260415T191116Z
LAST-MODIFIED:20260415T191215Z
DTSTAMP:20260421T105731Z
DTSTART:20280810T230000Z
DTEND:20280811T000000Z
LOCATION:2130 Redwine Road, Fayetteville, GA 30215, US
CATEGORIES:
SUMMARY:Fayette Roundtable
PRIORITY:5
BEGIN:VALARM
TRIGGER:PT15M
ACTION:DISPLAY
DESCRIPTION:Reminder
PRIORITY:5
END:VALARM
END:VEVENT
END:VCALENDAR
