BEGIN:VCALENDAR
METHOD:PUBLISH
PRODID:-//doubleknot.com//CalenderEvent MIMEDIR//EN
VERSION:2.0
BEGIN:VEVENT
UID:3143637-20270115T000000Z-20270115T010000Z@doubleknot.com
CREATED:20260415T191114Z
LAST-MODIFIED:20260415T191213Z
DTSTAMP:20260421T145519Z
DTSTART:20270115T000000Z
DTEND:20270115T010000Z
LOCATION:2130 Redwine Road, Fayetteville, GA 30215, US
CATEGORIES:
SUMMARY:Fayette Roundtable
PRIORITY:5
BEGIN:VALARM
TRIGGER:PT15M
ACTION:DISPLAY
DESCRIPTION:Reminder
PRIORITY:5
END:VALARM
END:VEVENT
END:VCALENDAR
